BEGIN:VCALENDAR
VERSION:2.0
PRODID:-//ChamberMaster//Event Calendar 2.0//EN
METHOD:PUBLISH
X-PUBLISHED-TTL:P3D
REFRESH-INTERVAL:P3D
CALSCALE:GREGORIAN
BEGIN:VEVENT
DTSTART:20240928T160000Z
DTEND:20240928T200000Z
X-MICROSOFT-CDO-ALLDAYEVENT:FALSE
SUMMARY:Come Out & Join All About You Healthcare Advocate
DESCRIPTION:Join All About You Healthcare Advocates for the Annual Community Health Fair! This event is dedicated to improving health literacy and breaking barriers in healthcare. Attendees can take advantage of various services\, including blood pressure and diabetes screenings\, physical examinations\, education on stroke prevention and heart disease\, SNAP assistance\, flu vaccines\, HIV screenings\, mental health awareness\, and more. There will also be support for registering children under 19 for health insurance and scheduling primary healthcare appointments.
X-ALT-DESC;FMTTYPE=text/html:Join All About You Healthcare Advocates for the Annual Community Health Fair! This event is dedicated to improving health literacy and breaking barriers in healthcare. Attendees can take advantage of various services\, including blood pressure and diabetes screenings\, physical examinations\, education on stroke prevention and heart disease\, SNAP assistance\, flu vaccines\, HIV screenings\, mental health awareness\, and more. There will also be support for registering children under 19 for health insurance and scheduling primary healthcare appointments.
LOCATION:The event will be held at Calvary Chapel Crossfields Church\, located at 15 Half Acre Road\, Jamesburg\, NJ 08831.
UID:e.2857.2099
SEQUENCE:3
DTSTAMP:20260423T171009Z
URL:https://business.shccnj.org/events/details/come-out-join-all-about-you-healthcare-advocate-2099
END:VEVENT

END:VCALENDAR
