BEGIN:VCALENDAR
VERSION:2.0
PRODID:-//ChamberMaster//Event Calendar 2.0//EN
METHOD:PUBLISH
X-PUBLISHED-TTL:P3D
REFRESH-INTERVAL:P3D
CALSCALE:GREGORIAN
BEGIN:VEVENT
DTSTART:20180530T220000Z
DTEND:20180531T000000Z
X-MICROSOFT-CDO-ALLDAYEVENT:FALSE
SUMMARY:COMBATING THE OPIOID EPIDEMIC AFFECTING OUR YOUTH
DESCRIPTION:Presented by\n\nTarek Aly\, MD & Avaas Sharif\, MD\n\nRepresenting the New Bridge Medical Center\n\nPsychiatric Residency Program\n\nAn Educational Approach to\n\nSaving Lives with Narcan\n\nA program for parents\, teens\, and young adults.\n\n\n\nClick here for more information and register: https://www.eventbrite.com/e/combating-the-opioid-epidemic-in-our-youth-tickets-45138807388
X-ALT-DESC;FMTTYPE=text/html:<p style="margin: 0px\; padding: 0px\; color: rgb(102\, 106\, 115)\; font-family: &quot\;Benton Sans&quot\;\, &quot\;Helvetica Neue&quot\;\, Helvetica\, Roboto\, Arial\, sans-serif\; font-size: 15px\; letter-spacing: 0.5px\; background-color: rgb(255\, 255\, 255)\;">Presented by<br style="padding-top: 0px\;" />\nTarek Aly\, MD &amp\; Avaas Sharif\, MD<br />\nRepresenting the New Bridge Medical Center<br />\nPsychiatric Residency Program</p>\n\n<p style="margin: 0px\; padding: 10px 0px 0px\; color: rgb(102\, 106\, 115)\; font-family: &quot\;Benton Sans&quot\;\, &quot\;Helvetica Neue&quot\;\, Helvetica\, Roboto\, Arial\, sans-serif\; font-size: 15px\; letter-spacing: 0.5px\; background-color: rgb(255\, 255\, 255)\;">An Educational Approach to<br style="padding-top: 0px\;" />\nSaving Lives with Narcan<br />\nA program for parents\,&nbsp\;teens\, and young adults.<br />\n<br />\nClick here for more information and register:&nbsp\;<a href="https://www.eventbrite.com/e/combating-the-opioid-epidemic-in-our-youth-tickets-45138807388">https://www.eventbrite.com/e/combating-the-opioid-epidemic-in-our-youth-tickets-45138807388</a></p>\n
LOCATION:230 E Ridgewood Ave 230 East Ridgewood Avenue Paramus\, NJ 07652
UID:e.2857.309
SEQUENCE:3
DTSTAMP:20260424T105757Z
URL:https://business.shccnj.org/events/details/combating-the-opioid-epidemic-affecting-our-youth-309
END:VEVENT

END:VCALENDAR
