BEGIN:VCALENDAR
VERSION:2.0
PRODID:-//ChamberMaster//Event Calendar 2.0//EN
METHOD:PUBLISH
X-PUBLISHED-TTL:P3D
REFRESH-INTERVAL:P3D
CALSCALE:GREGORIAN
BEGIN:VEVENT
DTSTART:20170721T220000Z
DTEND:20170722T000000Z
X-MICROSOFT-CDO-ALLDAYEVENT:FALSE
SUMMARY:Colonization Is Extinction
DESCRIPTION:"Colonization Is Extinction " Is a hard hitting documentary about the economic crisis in Puerto Rico and the dark future that may lie ahead for the island. Afterwards their will be a Q&A with Director Walter Alomar
X-ALT-DESC;FMTTYPE=text/html:&quot\;Colonization Is Extinction &quot\; Is a hard hitting documentary about the economic crisis in Puerto Rico and the dark future that may lie ahead for the island. Afterwards their will be a Q&amp\;A with Director Walter Alomar
LOCATION:1303 Louis Nine Blvd Bronx NY 10459
UID:e.2857.201
SEQUENCE:3
DTSTAMP:20260421T104711Z
URL:https://business.shccnj.org/events/details/colonization-is-extinction-201
END:VEVENT

END:VCALENDAR
