BEGIN:VCALENDAR
VERSION:2.0
PRODID:-//ChamberMaster//Event Calendar 2.0//EN
METHOD:PUBLISH
X-PUBLISHED-TTL:P3D
REFRESH-INTERVAL:P3D
CALSCALE:GREGORIAN
BEGIN:VEVENT
DTSTART:20170720T160000Z
DTEND:20170720T170000Z
X-MICROSOFT-CDO-ALLDAYEVENT:FALSE
SUMMARY:Colombian-style Salsa Workshop with Danilo Melan
DESCRIPTION:
X-ALT-DESC;FMTTYPE=text/html:
LOCATION:Bergen Community College - Hackensack
UID:e.2857.206
SEQUENCE:3
DTSTAMP:20260423T232659Z
URL:https://business.shccnj.org/events/details/colombian-style-salsa-workshop-with-danilo-melan-07-20-2017-206
END:VEVENT

END:VCALENDAR
