BEGIN:VCALENDAR
VERSION:2.0
PRODID:-//ChamberMaster//Event Calendar 2.0//EN
METHOD:PUBLISH
X-PUBLISHED-TTL:P3D
REFRESH-INTERVAL:P3D
CALSCALE:GREGORIAN
BEGIN:VEVENT
DTSTART:20180506T000000Z
DTEND:20180506T035500Z
X-MICROSOFT-CDO-ALLDAYEVENT:FALSE
SUMMARY:CINCO DE MAYO PARTY
DESCRIPTION:Our organization will be hosting a Cinco de Mayo Party and would like to extend an invitation to you and your friends to join us in this celebration. While there you can enjoy yourselves and learn about how the Elks helps our veterans and special needs population. Feel free to bring your own snacks for your table.
X-ALT-DESC;FMTTYPE=text/html:Our organization will be hosting a Cinco de Mayo Party and would like to extend an invitation to you and your friends to join us in this celebration. While there you can enjoy yourselves and learn about how the Elks helps our veterans and special needs population. Feel free to bring your own snacks for your table.
LOCATION:PARK RIDGE ELKS 13 Sulak Lane Park Ridge\, NJ 07656
UID:e.2857.303
SEQUENCE:3
DTSTAMP:20260419T215418Z
URL:https://business.shccnj.org/events/details/cinco-de-mayo-party-303
END:VEVENT

END:VCALENDAR
