BEGIN:VCALENDAR
VERSION:2.0
PRODID:-//ChamberMaster//Event Calendar 2.0//EN
METHOD:PUBLISH
X-PUBLISHED-TTL:P3D
REFRESH-INTERVAL:P3D
CALSCALE:GREGORIAN
BEGIN:VEVENT
DTSTART:20161201T220000Z
DTEND:20161202T040000Z
X-MICROSOFT-CDO-ALLDAYEVENT:FALSE
SUMMARY:Carlos' 50th Birthday Bash
DESCRIPTION:Come celebrate the 25th Anniversary of Carlos' 25th Birthday!\n\n\n\nGet the party started early!\n\nFree Appetizers from 5 - 6 pm!\n\n\n\nStay Late!\n\nHappy Hour Pricing on Food & Beverages ALL NIGHT!
X-ALT-DESC;FMTTYPE=text/html:<p style="margin: 0px\; padding: 0px\; color: rgb(102\, 106\, 115)\; font-family: &quot\;Benton Sans&quot\;\, &quot\;Helvetica Neue&quot\;\, Helvetica\, Roboto\, Arial\, sans-serif\; font-size: 15px\; letter-spacing: 0.5px\;"><span style="font-family:tahoma\;"><span style="color:#000000\;"><span style="padding-top: 0px\;">Come celebrate the 25th Anniversary&nbsp\;</span>of Carlos&#39\; 25th Birthday!</span></span></p>\n\n<p style="margin: 0px\; padding: 10px 0px 0px\; color: rgb(102\, 106\, 115)\; font-family: &quot\;Benton Sans&quot\;\, &quot\;Helvetica Neue&quot\;\, Helvetica\, Roboto\, Arial\, sans-serif\; font-size: 15px\; letter-spacing: 0.5px\;"><br />\n<span style="font-family:tahoma\;"><span style="color:#000000\;"><span style="padding-top: 0px\;">Get the party started early!<br />\nFree Appetizers from 5 - 6 pm!</span></span></span></p>\n\n<p style="margin: 0px\; padding: 10px 0px 0px\; color: rgb(102\, 106\, 115)\; font-family: &quot\;Benton Sans&quot\;\, &quot\;Helvetica Neue&quot\;\, Helvetica\, Roboto\, Arial\, sans-serif\; font-size: 15px\; letter-spacing: 0.5px\;"><br />\n<span style="font-family:tahoma\;"><span style="color:#000000\;"><span style="padding-top: 0px\;">Stay Late!<br />\nHappy Hour Pricing on Food &amp\; Beverages ALL NIGHT!</span></span></span></p>\n
LOCATION:Son Cubano Restaurant 40 Riverwalk Place West New York\, NJ 07093
UID:e.2857.40
SEQUENCE:3
DTSTAMP:20260423T133905Z
URL:https://business.shccnj.org/events/details/carlos-50th-birthday-bash-40
END:VEVENT

END:VCALENDAR
