BEGIN:VCALENDAR
VERSION:2.0
PRODID:-//ChamberMaster//Event Calendar 2.0//EN
METHOD:PUBLISH
X-PUBLISHED-TTL:P3D
REFRESH-INTERVAL:P3D
CALSCALE:GREGORIAN
BEGIN:VEVENT
DTSTART;VALUE=DATE:20150512
DTEND;VALUE=DATE:20150513
TRANSP:TRANSPARENT
X-MICROSOFT-CDO-ALLDAYEVENT:TRUE
SUMMARY:Business to Business Networking Dinner
DESCRIPTION:Business to Business Networking Dinner
X-ALT-DESC;FMTTYPE=text/html:Business to Business Networking Dinner
LOCATION:
UID:e.2857.18
SEQUENCE:3
DTSTAMP:20260422T123113Z
URL:https://business.shccnj.org/events/details/business-to-business-networking-dinner-05-12-2015-18
END:VEVENT

END:VCALENDAR
