BEGIN:VCALENDAR
VERSION:2.0
PRODID:-//ChamberMaster//Event Calendar 2.0//EN
METHOD:PUBLISH
X-PUBLISHED-TTL:P3D
REFRESH-INTERVAL:P3D
CALSCALE:GREGORIAN
BEGIN:VEVENT
DTSTART:20180302T003000Z
DTEND:20180302T023000Z
X-MICROSOFT-CDO-ALLDAYEVENT:FALSE
SUMMARY:Brazilian Jazz with Trio Da Paz
DESCRIPTION:Three superstars of Brazilian jazz bring their infectious\, joyful music to the Bickford Theatre in Morristown on Thursday\, March 1. Formed in 1990 by guitarist Romero Lubumba\, bassist Nilson Matta\, and drummer Duduka de Fonseca\, Trio da Paz brings new life to native Brazilian jazz with their irresistible rhythms and dazzling improvisation. The Grammy nominated trio has been called a "Brazilian jazz supergroup" for good reason.
X-ALT-DESC;FMTTYPE=text/html:Three superstars of Brazilian jazz bring their infectious\, joyful music to the Bickford Theatre in Morristown on Thursday\, March 1. Formed in 1990 by guitarist Romero Lubumba\, bassist Nilson Matta\, and drummer Duduka de Fonseca\, Trio da Paz brings new life to native Brazilian jazz with their irresistible rhythms and dazzling improvisation. The Grammy nominated trio has been called a &quot\;Brazilian jazz supergroup&quot\; for good reason.
LOCATION:Bickford Theatre at the Morris Museum 6 Normandy Heights Road Morristown\, NJ 08960
UID:e.2857.295
SEQUENCE:3
DTSTAMP:20260424T082736Z
URL:https://business.shccnj.org/events/details/brazilian-jazz-with-trio-da-paz-295
END:VEVENT

END:VCALENDAR
