BEGIN:VCALENDAR
VERSION:2.0
PRODID:-//ChamberMaster//Event Calendar 2.0//EN
METHOD:PUBLISH
X-PUBLISHED-TTL:P3D
REFRESH-INTERVAL:P3D
CALSCALE:GREGORIAN
BEGIN:VEVENT
DTSTART:20180628T230000Z
DTEND:20180629T013000Z
X-MICROSOFT-CDO-ALLDAYEVENT:FALSE
SUMMARY:Bitter Laughter: Art and Activism from Latin America & Spain
DESCRIPTION:Join ViceVersa Magazine on Thursday\, June 28th at The New Work Project for "Bitter Laughter"\, a series of events that analyze important issues affecting Latin America and Spain through the lens of art.\n\nThis year\, ViceVersa Magazine is excited to partner with The New Work Project to create Local Editions of Bitter Laughter. The New Work Project is a new design-led\, hospitality-driven workspace for the creative industries\, located in the former Vice Media building on N 10th St in Williamsburg. Throughout the year\, we will showcase New York-based Hispanic artists whose work is an instrument of change.\n\nOn this second edition\, we will talk with the photographer and curator Lissa Rivera and her partner and muse\, BJ Lillis\, and with rapper Audry Funk and DJ Loup Rouge. The evening will end with a special performance by Audry Funk and DJ Loup Rouge and refreshments provided by Brooklyn Brewery.
X-ALT-DESC;FMTTYPE=text/html:<h3 class="p1"><span style="font-family:verdana\;"><strong>Join ViceVersa Magazine on Thursday\, June 28th at The New Work Project for &ldquo\;Bitter Laughter&rdquo\;\, a series of events that analyze important issues affecting Latin America and Spain through the lens of art.</strong></span></h3>\n\n<p class="p1"><span style="font-family:verdana\;"><span class="s1">This year\, ViceVersa Magazine is excited to partner with The New Work Project to create Local Editions of Bitter Laughter. The New Work Project is a new design-led\, hospitality-driven workspace for the creative industries\, located in the former Vice Media building on N 10th St in Williamsburg. Throughout the year\, we will showcase New York-based Hispanic artists whose work is an instrument of change.</span></span></p>\n\n<p class="p1"><span style="font-family:verdana\;"><span class="s1">On this second edition\, we will talk with the photographer and curator Lissa Rivera and her partner and muse\, BJ Lillis\, and with rapper Audry Funk and DJ Loup Rouge. The evening will end with a special performance by Audry Funk and DJ Loup Rouge and refreshments provided by Brooklyn Brewery.</span></span></p>\n\n<p class="p1">&nbsp\;</p>\n
LOCATION:The New Work Project 97 North 10th Street\, 2A Brooklyn\, NY 11249
UID:e.2857.318
SEQUENCE:3
DTSTAMP:20260424T121951Z
URL:https://business.shccnj.org/events/details/bitter-laughter-art-and-activism-from-latin-america-spain-318
END:VEVENT

END:VCALENDAR
