BEGIN:VCALENDAR
VERSION:2.0
PRODID:-//ChamberMaster//Event Calendar 2.0//EN
METHOD:PUBLISH
X-PUBLISHED-TTL:P3D
REFRESH-INTERVAL:P3D
CALSCALE:GREGORIAN
BEGIN:VEVENT
DTSTART:20170718T220000Z
DTEND:20170719T000000Z
X-MICROSOFT-CDO-ALLDAYEVENT:FALSE
SUMMARY:Art Exhibition and Music
DESCRIPTION:Join us and our community partner Club Columbia USA of Hackensack for the opening of "Paisajes de Mi Tierra Querida:\n\nLandscapes of My Beloved Land\," an exhibition of Latin American and Caribbean artists at the Ciarco Learning Center.\n\nEnjoy musical entertainment by noted Latin jazz harpist Enki Bello.
X-ALT-DESC;FMTTYPE=text/html:Join us and our community partner Club Columbia USA of Hackensack for the opening of &ldquo\;Paisajes de Mi Tierra Querida:<br />\nLandscapes of My Beloved Land\,&rdquo\; an exhibition of Latin American and Caribbean artists at the Ciarco Learning Center.<br />\nEnjoy musical entertainment by noted Latin jazz harpist Enki Bello.
LOCATION:Bergen Community College - Hackensack
UID:e.2857.203
SEQUENCE:3
DTSTAMP:20260423T221228Z
URL:https://business.shccnj.org/events/details/art-exhibition-and-music-203
END:VEVENT

END:VCALENDAR
