BEGIN:VCALENDAR
VERSION:2.0
PRODID:-//ChamberMaster//Event Calendar 2.0//EN
METHOD:PUBLISH
X-PUBLISHED-TTL:P3D
REFRESH-INTERVAL:P3D
CALSCALE:GREGORIAN
BEGIN:VEVENT
DTSTART:20170927T200000Z
DTEND:20170928T000000Z
X-MICROSOFT-CDO-ALLDAYEVENT:FALSE
SUMMARY:Annual Convention and Business Expo
DESCRIPTION:For over 27 years\, the Chamber has been committed to diversity and growth for all businesses. The Annual Convention is a showcase of all those who work tirelessly with the Chamber to continue this mission. Over seventy exhibitors\, government officials\, corporate leaders and diplomats all come together as one #Familia. \n\n\n\nFree Admission\n\nClick Here to Register\n\nSponsorship & Exhibit Opportunities here\n\n\n\nBecome a member to obtain the discounts and benefits in our events!\n\nClick here for Membership Package Information\n\nClick here for Membership Application
X-ALT-DESC;FMTTYPE=text/html:<div data-block="true" data-editor="aqafp" data-offset-key="fqtd6-0-0" style="font-family: Helvetica\, Arial\, sans-serif\; color: rgb(29\, 33\, 41)\; font-size: 12px\; white-space: pre-wrap\;">\n<div class="_1mf _1mj" data-offset-key="fqtd6-0-0" style="position: relative\; direction: ltr\; font-family: inherit\;"><span data-offset-key="fqtd6-0-0" style="font-family: inherit\;">For over 27 years\, the Chamber has been committed to diversity and growth for all businesses. The Annual Convention is a showcase of all those who work tirelessly with the Chamber to continue this mission. Over seventy exhibitors\, government officials\, corporate leaders and diplomats all come together as one </span><span class="_5zk7" data-offset-key="fqtd6-1-0" spellcheck="false" style="background-color: rgba(88\, 144\, 255\, 0.15)\; border-bottom: 1px solid rgba(88\, 144\, 255\, 0.3)\; font-family: inherit\;"><span data-offset-key="fqtd6-1-0" style="font-family: inherit\;"><span data-text="true" style="font-family: inherit\;">#Familia</span></span></span><span data-offset-key="fqtd6-2-0" style="font-family: inherit\;">. </span></div>\n</div>\n\n<div data-block="true" data-editor="aqafp" data-offset-key="6lavq-0-0" style="font-family: Helvetica\, Arial\, sans-serif\; color: rgb(29\, 33\, 41)\; font-size: 12px\; white-space: pre-wrap\;">\n<div class="_1mf _1mj" data-offset-key="6lavq-0-0" style="position: relative\; direction: ltr\; font-family: inherit\;"><span style="color: rgb(51\, 51\, 51)\; font-family: sans-serif\, Arial\, Verdana\, &quot\;Trebuchet MS&quot\;\; font-size: 13px\; background-color: rgb(255\, 255\, 255)\;">Free Admission</span><br style="color: rgb(51\, 51\, 51)\; font-family: sans-serif\, Arial\, Verdana\, &quot\;Trebuchet MS&quot\;\; font-size: 13px\;" />\n<a href="https://www.eventbrite.com/e/annual-convention-and-business-expo-tickets-37456217555"><span style="color: rgb(51\, 51\, 51)\; font-family: sans-serif\, Arial\, Verdana\, &quot\;Trebuchet MS&quot\;\; font-size: 13px\; background-color: rgb(255\, 255\, 255)\;">Click Here to Register</span></a></div>\n</div>\n<a href="https://chambermaster.blob.core.windows.net/userfiles/UserFiles/chambers/2857/File/ConventionSponsorship_VendorsBrochure.pdf" style="color: rgb(7\, 130\, 193)\; font-family: sans-serif\, Arial\, Verdana\, &quot\;Trebuchet MS&quot\;\; font-size: 13px\;">Sponsorship &amp\; Exhibit Opportunities&nbsp\;here</a><br />\n<br />\n<strong>Become a member to obtain the discounts and benefits in our events!</strong><br />\nClick here for&nbsp\;<a href="http://shccnj.org/wp-content/uploads/2013/06/2016-2017-Membership-Packet.pdf"><em><strong>Membership Package Information</strong></em></a><br />\nClick here for&nbsp\;<em><strong><a href="http://business.shccnj.org/member/newmemberapp/">Membership Application</a></strong></em>
LOCATION:Waterside Restaurant 7800 River Rd\, North Bergen\, NJ 07047
UID:e.2857.217
SEQUENCE:3
DTSTAMP:20260424T004609Z
URL:https://business.shccnj.org/events/details/annual-convention-and-business-expo-217
END:VEVENT

END:VCALENDAR
