BEGIN:VCALENDAR
VERSION:2.0
PRODID:-//ChamberMaster//Event Calendar 2.0//EN
METHOD:PUBLISH
X-PUBLISHED-TTL:P3D
REFRESH-INTERVAL:P3D
CALSCALE:GREGORIAN
BEGIN:VEVENT
DTSTART:20170719T153000Z
DTEND:20170719T173000Z
X-MICROSOFT-CDO-ALLDAYEVENT:FALSE
SUMMARY:African American Chamber of Commerce Annual Unity Luncheon
DESCRIPTION:Speakers:\n\n	John E. Harmon\, Sr.\, IOM.\, President & CEO\, African American Chamber of Commerce of NJ\n	Carlos Medina\, Chairman\, Statewide Hispanic Chamber of Commerce of NJ\n\nA conversation\, moderated by Glenn Townes\, Award Winning Journalist\, Black Enterprise Magazine\, South Jersey Journal
X-ALT-DESC;FMTTYPE=text/html:<u><strong><span style="color: rgb(0\, 0\, 0)\; font-family: Verdana\; font-size: small\;">Speakers:</span></strong></u>\n<ul>\n	<li><span style="color: rgb(0\, 0\, 0)\; font-family: Verdana\; font-size: small\;">John E. Harmon\, Sr.\, IOM.\, President &amp\; CEO\, African American Chamber of Commerce of NJ</span></li>\n	<li><span style="color: rgb(0\, 0\, 0)\; font-family: Verdana\; font-size: small\;">Carlos Medina\, Chairman\, Statewide Hispanic Chamber of Commerce of NJ</span></li>\n</ul>\n<span style="color: rgb(0\, 0\, 0)\; font-family: Verdana\; font-size: small\;">A conversation\, moderated by Glenn&nbsp\;</span>Townes<span style="color: rgb(0\, 0\, 0)\; font-family: Verdana\; font-size: small\;">\, Award Winning Journalist\, Black Enterprise Magazine\, South Jersey Journal</span>
LOCATION:Crowne Plaza Princeton 900 Scudders Mill Road Plainsboro\, NJ 08536 United States
UID:e.2857.202
SEQUENCE:3
DTSTAMP:20260423T221457Z
URL:https://business.shccnj.org/events/details/african-american-chamber-of-commerce-annual-unity-luncheon-202
END:VEVENT

END:VCALENDAR
