BEGIN:VCALENDAR
VERSION:2.0
PRODID:-//ChamberMaster//Event Calendar 2.0//EN
METHOD:PUBLISH
X-PUBLISHED-TTL:P3D
REFRESH-INTERVAL:P3D
CALSCALE:GREGORIAN
BEGIN:VEVENT
DTSTART;VALUE=DATE:20160720
DTEND;VALUE=DATE:20160721
TRANSP:TRANSPARENT
X-MICROSOFT-CDO-ALLDAYEVENT:TRUE
SUMMARY:6th Annual Hispanic Business Expo
DESCRIPTION:6th Annual Hispanic Business Expo
X-ALT-DESC;FMTTYPE=text/html:6th Annual Hispanic Business Expo
LOCATION:
UID:e.2857.37
SEQUENCE:3
DTSTAMP:20260423T070811Z
URL:https://business.shccnj.org/events/details/6th-annual-hispanic-business-expo-07-20-2016-37
END:VEVENT

END:VCALENDAR
