BEGIN:VCALENDAR
VERSION:2.0
PRODID:-//ChamberMaster//Event Calendar 2.0//EN
METHOD:PUBLISH
X-PUBLISHED-TTL:P3D
REFRESH-INTERVAL:P3D
CALSCALE:GREGORIAN
BEGIN:VEVENT
DTSTART:20180930T160000Z
DTEND:20180930T200000Z
X-MICROSOFT-CDO-ALLDAYEVENT:FALSE
SUMMARY:3rd Annual Community Healthcare Services Fair
DESCRIPTION:FREE Dentists\, Eye Glasses Vouchers\, Cancer Screening\, HIV\, Consultations\, Chiropractor\, Eye sight Screenings\, Prostate Screenings. Glucose & Cholesterol Screening\, Medical Screenings\, Health Lecture/Presentations\, CPR/First Aid - Certified Instructors\, Nutrition Experts..And more... Interactive Community Healthcare services Fair Tickets\, | Eventbrite https://www.eventbrite.com/e/interactive-community-healthcare-services-fair-tickets-48815761256?aff=ebdssbdestsearch
X-ALT-DESC;FMTTYPE=text/html:FREE Dentists\, Eye Glasses Vouchers\, Cancer Screening\, HIV\, Consultations\, Chiropractor\, Eye sight Screenings\, Prostate Screenings. Glucose &amp\; Cholesterol Screening\, Medical Screenings\, Health Lecture/Presentations\, CPR/First Aid - Certified Instructors\, Nutrition Experts..And more... Interactive Community Healthcare services Fair Tickets\, | Eventbrite https://www.eventbrite.com/e/interactive-community-healthcare-services-fair-tickets-48815761256?aff=ebdssbdestsearch
LOCATION:Hamilton Stage 360 Hamilton Street\, Rahway\, NJ 07065
UID:e.2857.347
SEQUENCE:3
DTSTAMP:20260424T161126Z
URL:https://business.shccnj.org/events/details/3rd-annual-community-healthcare-services-fair-347
END:VEVENT

END:VCALENDAR
