BEGIN:VCALENDAR
VERSION:2.0
PRODID:-//ChamberMaster//Event Calendar 2.0//EN
METHOD:PUBLISH
X-PUBLISHED-TTL:P3D
REFRESH-INTERVAL:P3D
CALSCALE:GREGORIAN
BEGIN:VEVENT
DTSTART;VALUE=DATE:20160422
DTEND;VALUE=DATE:20160423
TRANSP:TRANSPARENT
X-MICROSOFT-CDO-ALLDAYEVENT:TRUE
SUMMARY:2016 3rd Annual Health & Wellness Fair presented by Horizon BCBSNJ
DESCRIPTION:2016 3rd Annual Health & Wellness Fair presented by Horizon BCBSNJ
X-ALT-DESC;FMTTYPE=text/html:2016 3rd Annual Health & Wellness Fair presented by Horizon BCBSNJ
LOCATION:
UID:e.2857.32
SEQUENCE:3
DTSTAMP:20260423T024911Z
URL:https://business.shccnj.org/events/details/2016-3rd-annual-health-wellness-fair-presented-by-horizon-bcbsnj-04-22-2016-32
END:VEVENT

END:VCALENDAR
